BEGIN:VCALENDAR
VERSION:2.0
PRODID:-//United Federation of Martial Arts - ECPv6.15.6//NONSGML v1.0//EN
CALSCALE:GREGORIAN
METHOD:PUBLISH
X-ORIGINAL-URL:https://www.ufmartialarts.com
X-WR-CALDESC:Events for United Federation of Martial Arts
REFRESH-INTERVAL;VALUE=DURATION:PT1H
X-Robots-Tag:noindex
X-PUBLISHED-TTL:PT1H
BEGIN:VTIMEZONE
TZID:UTC
BEGIN:STANDARD
TZOFFSETFROM:+0000
TZOFFSETTO:+0000
TZNAME:UTC
DTSTART:20240101T000000
END:STANDARD
END:VTIMEZONE
BEGIN:VEVENT
DTSTART;TZID=UTC:20250405T100000
DTEND;TZID=UTC:20250405T190000
DTSTAMP:20260421T160859
CREATED:20241123T215604Z
LAST-MODIFIED:20250104T201553Z
UID:2096-1743847200-1743879600@www.ufmartialarts.com
SUMMARY:South Carolina - Tournament
DESCRIPTION:25th Pro-Am Annual Karate Tournament
URL:https://www.ufmartialarts.com/event/south-carolina-tournament/
LOCATION:Florence\, SC\, New Ebenezar Baptist Church\, SHEREC Building
CATEGORIES:Tournament
ATTACH;FMTTYPE=image/jpeg:https://www.ufmartialarts.com/wp-content/uploads/2024/11/SC-April-5.jpg
END:VEVENT
BEGIN:VEVENT
DTSTART;VALUE=DATE:20250426
DTEND;VALUE=DATE:20250428
DTSTAMP:20260421T160859
CREATED:20241123T215259Z
LAST-MODIFIED:20241123T223503Z
UID:2091-1745625600-1745798399@www.ufmartialarts.com
SUMMARY:Philipines - Tournament
DESCRIPTION:2nd Liga Filipinas\nInternational Friendship & Solidarity Karate Cup
URL:https://www.ufmartialarts.com/event/philipines-tournament/
LOCATION:Malabon City – Philipines\, Malabon Sports Complex
CATEGORIES:Tournament
ATTACH;FMTTYPE=image/jpeg:https://www.ufmartialarts.com/wp-content/uploads/2024/11/Philipines-april-26-27.jpg
END:VEVENT
END:VCALENDAR